BEGIN:VCALENDAR
VERSION:2.0
PRODID:-//hub.inesc.pt - ECPv6.2.8//NONSGML v1.0//EN
CALSCALE:GREGORIAN
METHOD:PUBLISH
X-ORIGINAL-URL:https://hub.inesc.pt
X-WR-CALDESC:Events for hub.inesc.pt
REFRESH-INTERVAL;VALUE=DURATION:PT1H
X-Robots-Tag:noindex
X-PUBLISHED-TTL:PT1H
BEGIN:VTIMEZONE
TZID:Europe/Brussels
BEGIN:DAYLIGHT
TZOFFSETFROM:+0100
TZOFFSETTO:+0200
TZNAME:CEST
DTSTART:20230326T010000
END:DAYLIGHT
BEGIN:STANDARD
TZOFFSETFROM:+0200
TZOFFSETTO:+0100
TZNAME:CET
DTSTART:20231029T010000
END:STANDARD
END:VTIMEZONE
BEGIN:VEVENT
DTSTART;TZID=Europe/Brussels:20231128T150000
DTEND;TZID=Europe/Brussels:20231128T170000
DTSTAMP:20260424T032539
CREATED:20231204T131624Z
LAST-MODIFIED:20231204T131624Z
UID:12884-1701183600-1701190800@hub.inesc.pt
SUMMARY:Horizon Europe: FP10 and Preparing for the 2024 Annual Conference
DESCRIPTION:Policy and public debates are now under way regarding the design and priorities for the EU’s successor to Horizon Europe – the 10th Framework Programme for Research – which will be at the heart of the Science|Business Annual Network Conference on February 12 & 13 next year\, titled What’s on the Horizon? Framing the next 40 years of European R&I. \nAgainst this backdrop\, on November 27 Science|Business will convene members of its Network online for a first discussion of new ideas and recommendations to shape the February agenda and to develop inputs for the FP10-focused workshops that will take place in Brussels on February 12. \nN.B. Participation is exclusive to representatives of Science|Business Network Members. \nRead more:\nHere’s what the member states have in mind for FP10
URL:https://hub.inesc.pt/event/horizon-europe-fp10-and-preparing-for-the-2024-annual-conference-4/
LOCATION:Brussels
CATEGORIES:In person
END:VEVENT
END:VCALENDAR