BEGIN:VCALENDAR
VERSION:2.0
PRODID:-//hub.inesc.pt - ECPv6.2.8//NONSGML v1.0//EN
CALSCALE:GREGORIAN
METHOD:PUBLISH
X-ORIGINAL-URL:https://hub.inesc.pt
X-WR-CALDESC:Events for hub.inesc.pt
REFRESH-INTERVAL;VALUE=DURATION:PT1H
X-Robots-Tag:noindex
X-PUBLISHED-TTL:PT1H
BEGIN:VTIMEZONE
TZID:Europe/Brussels
BEGIN:DAYLIGHT
TZOFFSETFROM:+0100
TZOFFSETTO:+0200
TZNAME:CEST
DTSTART:20230326T010000
END:DAYLIGHT
BEGIN:STANDARD
TZOFFSETFROM:+0200
TZOFFSETTO:+0100
TZNAME:CET
DTSTART:20231029T010000
END:STANDARD
END:VTIMEZONE
BEGIN:VEVENT
DTSTART;TZID=Europe/Brussels:20231012T140000
DTEND;TZID=Europe/Brussels:20231012T170000
DTSTAMP:20260424T061512
CREATED:20231204T125506Z
LAST-MODIFIED:20231204T125506Z
UID:12876-1697119200-1697130000@hub.inesc.pt
SUMMARY:Making waves: Is international R&I bringing a true blue economy within reach?
DESCRIPTION:In recent years\, blue economy has moved steadily closer to the centre of political and policy radar screens around the world. Initially framed as the use of marine and maritime resources for economic growth\, the concept has expanded over time to the sustainable management and protection of ocean\, coastal and freshwater ecosystems – and along the way breathing fresh life into “nexus thinking” about the interrelationships between water\, energy and food. \nAs a nascent framework for planetary development\, blue economy holds vast potential\, but it also suffers from a lack of best practices\, clear governance and the limited scope and organisation of its applications to date.  Unsurprisingly\, the EU – along with the UN\, which launched the Decade of Sustainable Oceans in 2020\, and other like-minded countries – has been at the forefront of efforts to address these issues. Last year the European Commission launched one of its flagship missions under Horizon Europe to “Restore our Ocean and Waters”\, signalling the blue economy’s importance for its strategies in various policy areas\, ranging from energy to fisheries. The effort goes in parallel with the launch of the Sustainable Blue Economy co-funded partnership\, which aims at the creation of a climate-neutral\, sustainable and productive maritime economic area. \nNonetheless\, navigating in the darkness is not the best approach at sea\, and in this context research can provide a safe harbour. To reap the benefits coming from the marine environment\, and to avoid the depletion of its resources and its ability to help in the fight against climate change\, solid research\, data\, planning and cross-border cooperation will be crucial elements moving forward. This is already evident in some of the blue economy sectors that show the highest potential – from sustainable fishing and aquaculture\, to marine renewable energy and blue biotechnologies – but is equally true in more problematic domains like deep sea mining. Yet without clear scientific evidence of the impact of new practices and technologies\, the blue economy will suffer from barriers to implementation and a lack of investment. Both elements are crucial\, and they may well define if the blue economy is here to stay\, or just a passing wave. \nAgainst this backdrop\, what is the existing relationship between marine research\, the market and policymaking? How can a closer research-industry connection ensure start-ups\, innovative ideas\, and entrepreneurs the right incentives from the financial sector? How can regulators be presented with a clearer view of the benefits of sustainable marine environments in the context of wider political agendas? On October 12\, Science|Business will gather expert policymakers\, research experts\, industrial representatives and other key stakeholders to reflect on the knowledge value chains necessary to act on the blue economy’s potential. \n\n\nSpeakers\n\n\n\n\n\n\n\n\n\nSzilvia Nemeth\nDeputy Head of Unit\, European Commission (DG RTD)\n\n\n\n\n\nClaire Jolly\nHead\, Ocean Economy and Space Economy\, STI Directorate\, OECD\n\n\n\n\n\nPaul Holthus\nFounding President & CEO\, World Ocean Council\n\n\n\n\n\nHannah Brocke\nCSO & Co-Founder\, Planblue\n\n\n\n\n\nAntonella Calvia-Götz\nInnovation Funding Advisor\, Projects Directorate\, European Investment Bank\n\n\n\n\n\nJoachim Claudet\nSenior Researcher & Ocean Advisor\, CNRS\n\n\n\n\n\nJennifer Laplante\nChief Growth and Investment Officer\, Ocean Supercluster Canada\n\n\n\n\n\nPeter De Schryver\nInnovations director at INVE AQUACULTURE\n\n\n\n\n\nEduardo Silva\nCoordinator\, TEC4SEA & Senior Researcher\, INESC TEC\n\n\n\n\n\nSteffen Knodt\nHead of Sustainable Ocean Business Centre\, Fraunhofer\n\n\n\n\n\nChristina Abildgaard\nDirector\, Department for Bioresources and Environmental Research\, Research Council of Norway\n\n\n\n\n\nØyvind Fiksen\nProfessor and Marine Dean\, University of Bergen\n\n\n\n\n\n\n\n\n\nPartners
URL:https://hub.inesc.pt/event/making-waves-is-international-ri-bringing-a-true-blue-economy-within-reach-3/
LOCATION:Brussels
CATEGORIES:In person
END:VEVENT
END:VCALENDAR