BEGIN:VCALENDAR
VERSION:2.0
PRODID:-//hub.inesc.pt - ECPv6.2.8//NONSGML v1.0//EN
CALSCALE:GREGORIAN
METHOD:PUBLISH
X-ORIGINAL-URL:https://hub.inesc.pt
X-WR-CALDESC:Events for hub.inesc.pt
REFRESH-INTERVAL;VALUE=DURATION:PT1H
X-Robots-Tag:noindex
X-PUBLISHED-TTL:PT1H
BEGIN:VTIMEZONE
TZID:Europe/Brussels
BEGIN:DAYLIGHT
TZOFFSETFROM:+0100
TZOFFSETTO:+0200
TZNAME:CEST
DTSTART:20240331T010000
END:DAYLIGHT
BEGIN:STANDARD
TZOFFSETFROM:+0200
TZOFFSETTO:+0100
TZNAME:CET
DTSTART:20241027T010000
END:STANDARD
END:VTIMEZONE
BEGIN:VEVENT
DTSTART;TZID=Europe/Brussels:20240314T150000
DTEND;TZID=Europe/Brussels:20240314T160000
DTSTAMP:20260423T232956
CREATED:20231130T134156Z
LAST-MODIFIED:20231130T134156Z
UID:12818-1710428400-1710432000@hub.inesc.pt
SUMMARY:Horizon Europe: Where next for lump-sum funding and simplification? Private S|B Network FP Working Group webinar
DESCRIPTION:In a move towards the simplification of R&I grant implementation\, the EC has introduced (among other measures) lump sum funding in Horizon Europe. While the original intention was to reduce administration and financial errors\, the launch of the methodology was hampered by real-life circumstances. The energy crisis and the subsequent inflation in costs of living have shadowed the changes the EU Commission was planning to bring about\, with some stakeholders casting doubts on the benefits of lump sum funding. Science|Business will dive into the formalities of the process in this Network members-only webinar\, trying to shed light on the future of the mechanism.
URL:https://hub.inesc.pt/event/horizon-europe-where-next-for-lump-sum-funding-and-simplification-private-sb-network-fp-working-group-webinar/
LOCATION:Brussels
CATEGORIES:In person
END:VEVENT
END:VCALENDAR