BEGIN:VCALENDAR
VERSION:2.0
PRODID:-//hub.inesc.pt - ECPv6.2.8//NONSGML v1.0//EN
CALSCALE:GREGORIAN
METHOD:PUBLISH
X-WR-CALNAME:hub.inesc.pt
X-ORIGINAL-URL:https://hub.inesc.pt
X-WR-CALDESC:Events for hub.inesc.pt
REFRESH-INTERVAL;VALUE=DURATION:PT1H
X-Robots-Tag:noindex
X-PUBLISHED-TTL:PT1H
BEGIN:VTIMEZONE
TZID:Europe/Lisbon
BEGIN:DAYLIGHT
TZOFFSETFROM:+0000
TZOFFSETTO:+0100
TZNAME:WEST
DTSTART:20240331T010000
END:DAYLIGHT
BEGIN:STANDARD
TZOFFSETFROM:+0100
TZOFFSETTO:+0000
TZNAME:WET
DTSTART:20241027T010000
END:STANDARD
TZID:Europe/Brussels
BEGIN:DAYLIGHT
TZOFFSETFROM:+0100
TZOFFSETTO:+0200
TZNAME:CEST
DTSTART:20240331T010000
END:DAYLIGHT
BEGIN:STANDARD
TZOFFSETFROM:+0200
TZOFFSETTO:+0100
TZNAME:CET
DTSTART:20241027T010000
END:STANDARD
END:VTIMEZONE
BEGIN:VEVENT
DTSTART;VALUE=DATE:20240409
DTEND;VALUE=DATE:20240411
DTSTAMP:20260423T220623
CREATED:20240325T154327Z
LAST-MODIFIED:20240325T154346Z
UID:14136-1712620800-1712793599@hub.inesc.pt
SUMMARY:Mutual Learning Exercise on Industrial Decarbonisation
DESCRIPTION:The Mutual Learning Exercise (MLE) is an established instrument of the EU to promote the exchange of best practices among the participating countries and to allow countries to learn from each other and from the experts. \nThe MLE on Industrial Decarbonisation is expected to contribute to achieving the Green Deal. 12 European countries have committed in early 2023 to participate in this MLE. This will help countries to effectively address the challenges of reducing carbon emissions in the industrial sector and move towards a more sustainable future. The ultimate goal of this MLE is faster deployment of new technology\, business solutions\, and models to facilitate the transition to a climate-neutral continent\, while also strengthening Europe’s industrial sector. \nAfter four intensive thematic sessions\, this dissemination event has the aim to spread and discuss the results to a broader professional audience. \nThe Mutual Learning Exercice on Industrial Decarbonisation is organized by the European Commission (DG Research and Innovation). The aim is to contribute to achieving the Green Deal by serving as a platform for participating countries to discuss their specific needs and interests\, exchange experiences and knowledge about success factors and lessons learned\, and provide guidance to policy makers on how to develop or update their industrial technology roadmaps and sector-specific strategies for industrial decarbonization. \nThe ultimate goal of this MLE is faster deployment of new technology\, business solutions\, and models to facilitate the transition to a climate-neutral continent\, while also strengthening Europe’s industrial sector. \nThe dissemination activities are the final step in this exercice. They are held under the Belgian Presidency of the Council of the European Union\, as both regional authorities of Flanders and Wallonia are participating in the MLE as representatives of Belgium. \nPart 1\nPart I concerns an event on invitation in Brussels. Invitations are sent to Government experts from MLE countries\, outside MLE country participants\, MLE experts\, and senior managers of industry\, business and research associations. It aims at presenting the results of the project to a wider group of participants\, with the focus on discussing impact and lessons learned from the MLE and follow up. \nThe event will feature a keynote speech by a high-level speaker who will set the scene for the subsequent discussions. After a presentation\, made by the Chair\, of the MLE results and the policy recommendations identified and validated during the project\, the open event will have a panel discussion to debate the next steps on how the policy recommendations can be applied. This panel discussion\, moderated by the European Commission\, will gather speakers from the MLE participating countries and industry representatives. \nIn between the two sessions\, a short presentation from the European Commission\, DG Research and Innovation on a new action plan on decarbonisation of the EU energy-intensive industries will take place. \nPart II\nPart II concerns several closed sessions (restricted to the MLE participants\, project team and targeted invitees)\, combined with site visits in both Wallonia and Flanders. It aims at discussing\, among practitioners and industry representatives\, concrete actions that can be applied by the MLE participants to put into practice the lessons learned during the exercise\, with the objective of increasing the impact of the MLE and follow up. \nWallonia\nThe MLE participants are invited to the Wallonia region\, to visit the CRM Group premisses\, with a focus on industry pilots. Afterwards\, two panel discussions\, with invited speakers mainly from the industry\, aim at debating the industry decarbonisation strategy of Wallonia (with an emphasis on the role of SMEs)\, the role of CCU with the presentation of the project Columbus by Carmeuse\, and the role of green hydrogen in the decarbonisation of energy-intensive industries\, with several interventions from the industry and public authorities. The day will end with a networking cocktail with invited members of the Belgium Hydrogen Council. \nFlanders\nOn the second day\, the MLE participants will move to Genk (Flanders)\, to have further discussions on the role of inter-regional collaboration\, industry-symbiosis\, regulatory sandboxes and the role of green electricity\, infrastructure and logistics for industrial decarbonisation. A first set of presentations from representatives of EnergyVille and from the Port of Antwerp-Bruges and North Sea Port will provide to the MLE participants concrete examples and best practices of industry-symbiosis\, electrification\, logistics and regulatory sandboxes. \nAfter that\, a panel discussion bringing together public actors from Belgium\, the Netherlands and Germany aspires to bring insights about interregional collaboration\, in line with the policy recommendations. Finally\, a site visit to the EnergyVille premisses will again showcase good examples of industrial decarbonisation in Belgium. \nMore info here
URL:https://hub.inesc.pt/event/mutual-learning-exercise-on-industrial-decarbonisation/
LOCATION:Brussels
CATEGORIES:In person
END:VEVENT
BEGIN:VEVENT
DTSTART;VALUE=DATE:20240409
DTEND;VALUE=DATE:20240415
DTSTAMP:20260423T220623
CREATED:20240325T154549Z
LAST-MODIFIED:20240325T154549Z
UID:14139-1712620800-1713139199@hub.inesc.pt
SUMMARY:New European Bauhaus Festival 2024
DESCRIPTION:The Festival of the New European Bauhaus is returning for its second edition on 9-14 April 2024!  \nFrom 9-14 April 2024\, the highly anticipated Festival of the New European Bauhaus will once again bring together people from all across the globe to share their vision and actions for a future that is sustainable\, beautiful\, and inclusive. \nThis year’s edition of the Festival will feature a diverse and fully-packed programme with discussion panels\, exhibitions\, art performances\, satellite events\, and much more. \nDuring the event\, global industry leaders\, opinion thinkers\, innovation experts\, artists\, and cultural figures will get together to discuss crucial topics\, including shelter and living environments\, land and water\, fashion\, and human well-being\, all within the context of environmental changes. \nThe Festival programme will span across four tracks of activities: \n\nForum - a platform for engaging discussions and the exchange of ideas surrounding the New European Bauhaus.\nFair - a laboratory and exhibition highlighting projects and prototypes that align with and support the core values of the New European Bauhaus.\nFest - a celebration that unites culture\, art\, and conviviality\, serving as a moment of collective rejoicing\, honoring freedom of expression and embracing radical\, innovative\, and disruptive ideas and visions.\nSatellite events: events and initiatives organised independently in Brussels and beyond\, with core activities in line with the New European Bauhaus values.\n\nThe Festival will also feature the New European Bauhaus Prizes\, recognising projects\, designs\, and ideas that align with the movement’s commitment to shaping a sustainable\, beautiful\, and inclusive future for Europe. A total of 20 winners from all across Europe will be awarded this year at an official Prize ceremony. \nMore information
URL:https://hub.inesc.pt/event/new-european-bauhaus-festival-2024/
LOCATION:Art & History Museum\, Parc du Cinquantenaire / Jubelpark 10\, Brussels\, Belgium
CATEGORIES:In person
END:VEVENT
END:VCALENDAR