BEGIN:VCALENDAR
VERSION:2.0
PRODID:-//hub.inesc.pt - ECPv6.2.8//NONSGML v1.0//EN
CALSCALE:GREGORIAN
METHOD:PUBLISH
X-ORIGINAL-URL:https://hub.inesc.pt
X-WR-CALDESC:Events for hub.inesc.pt
REFRESH-INTERVAL;VALUE=DURATION:PT1H
X-Robots-Tag:noindex
X-PUBLISHED-TTL:PT1H
BEGIN:VTIMEZONE
TZID:Europe/Brussels
BEGIN:DAYLIGHT
TZOFFSETFROM:+0100
TZOFFSETTO:+0200
TZNAME:CEST
DTSTART:20240331T010000
END:DAYLIGHT
BEGIN:STANDARD
TZOFFSETFROM:+0200
TZOFFSETTO:+0100
TZNAME:CET
DTSTART:20241027T010000
END:STANDARD
END:VTIMEZONE
BEGIN:VEVENT
DTSTART;VALUE=DATE:20240416
DTEND;VALUE=DATE:20240417
DTSTAMP:20260423T220655
CREATED:20240325T110624Z
LAST-MODIFIED:20240325T110624Z
UID:14102-1713225600-1713311999@hub.inesc.pt
SUMMARY:Maritime Security seminar
DESCRIPTION:One of the seminars organised by the Belgian presidency will focus on maritime security. The oceans and seas hold the key to the economic development and the present and future prosperity and security of all nations. Europe has the second largest coastal area in the world\, and maritime trade and the industries that depend on it are a major source of its economic development and prosperity. The EU is the world’s second-largest exporter and third-largest importer. 90% of European exports travel via maritime routes\, and as a global player\, the EU’s interests extend across the globe. \nThe importance of maritime security therefore goes far beyond the maritime domain alone\, and is linked to other areas\, such as the economy\, energy\, transport (supply chains)\, tourism\, access to and conservation of natural marine resources\, and critical infrastructure (including offshore and submarine infrastructure). Although essential\, maritime safety is nevertheless facing a growing number of challenges stemming from traditional threats (e.g. piracy\, geopolitical rivalries\, overfishing) as well as new threats (organised crime\, various forms of illicit activity taking place on the seas\, such as smuggling and waste dumping)\, all of which require multiple forms of cooperation to provide sustainable responses. \nThe aim is to bring together experts from institutions\, Member States and the private sector\, as well as representatives of the academic world\, to link maritime security to the challenges of space capabilities\, as well as cooperation with third-party states (NATO\, UK\, NO\, US)\, critical infrastructure protection\, legal maritime issues\, piracy and raising awareness of the EU’s maritime domain. \nDuring the seminar\, four maritime zones will be examined in terms of their maritime-related challenges. The seminar will include the perspective not only of the EU but also of international partners\, academics and Member States. \nRegistration \nMore info here
URL:https://hub.inesc.pt/event/maritime-security-seminar/
LOCATION:Brussels
CATEGORIES:In person
END:VEVENT
END:VCALENDAR