BEGIN:VCALENDAR
VERSION:2.0
PRODID:-//hub.inesc.pt - ECPv6.2.8//NONSGML v1.0//EN
CALSCALE:GREGORIAN
METHOD:PUBLISH
X-WR-CALNAME:hub.inesc.pt
X-ORIGINAL-URL:https://hub.inesc.pt
X-WR-CALDESC:Events for hub.inesc.pt
REFRESH-INTERVAL;VALUE=DURATION:PT1H
X-Robots-Tag:noindex
X-PUBLISHED-TTL:PT1H
BEGIN:VTIMEZONE
TZID:Europe/Riga
BEGIN:DAYLIGHT
TZOFFSETFROM:+0200
TZOFFSETTO:+0300
TZNAME:EEST
DTSTART:20240331T010000
END:DAYLIGHT
BEGIN:STANDARD
TZOFFSETFROM:+0300
TZOFFSETTO:+0200
TZNAME:EET
DTSTART:20241027T010000
END:STANDARD
END:VTIMEZONE
BEGIN:VEVENT
DTSTART;VALUE=DATE:20240425
DTEND;VALUE=DATE:20240427
DTSTAMP:20260423T220540
CREATED:20240318T105602Z
LAST-MODIFIED:20240318T105659Z
UID:14003-1714003200-1714175999@hub.inesc.pt
SUMMARY:2nd Mission Arena by Blue Mission BANOS
DESCRIPTION:The 2nd Mission Arena hosted by BlueMissionBANOS is taking place at H2O 6 kvartāls event hall in Riga\, Latvia on 25-26 April 2024.  \nFollowing the success of the first BlueMission BANOS Arena in Gothenburg\, Sweden last November\, BlueMissionBANOS is now hosting its second edition. \n\nRegistrations are open until 22 April 2024.  \nThis new edition will focus on regional actors in Estonia\, Latvia\, Lithuania\, Finland and East Sweden. The key stakeholders in this Arena will be Mission Ocean-relevant actors who will have the opportunity to engage with current and future actions in this region. Over the course of two days\, progress will be showcased\, open needs will be discussed\, and the next steps to transform this region’s blue economy to be more carbon-neutral\, environmentally friendly\, and circular will be planned. Additionally\, all participants will then have the chance to vote on the Roadmap towards Mission Ocean and Water’s success for this region at the final Mission Assembly. \nThe focus will not only be on the Baltic Sea as such but also cover ‘Blue on Land’\, i.e.\, lakes\, rivers and wastewater. Topics include fishery & aquaculture\, shipping and ports\, nutrients and pollution leakage to the ocean and waters\, waterborne transport\, nature protection and restoration\, sustainable products\, and all actions required to transform these sectors. \nDiscussions will be framed across 15 specific workshop themes. When you register\, please indicate whether you want to make an active contribution to one of them. We will accept suggestions until 15 March 2024. Please note that places will be limited\, and priority will be given to local actors. \nMore info here.
URL:https://hub.inesc.pt/event/2nd-mission-arena-by-blue-mission-banos/
LOCATION:H2O 6 kvartāls event hall\, Riga\, Latvia
CATEGORIES:In person
ATTACH;FMTTYPE=image/jpeg:https://hub.inesc.pt/wp-content/uploads/2024/03/2nd-Mission-Arena-by-Blue-Mission-BANOS_image.jpg
END:VEVENT
END:VCALENDAR