BEGIN:VCALENDAR
VERSION:2.0
PRODID:-//hub.inesc.pt - ECPv6.2.8//NONSGML v1.0//EN
CALSCALE:GREGORIAN
METHOD:PUBLISH
X-WR-CALNAME:hub.inesc.pt
X-ORIGINAL-URL:https://hub.inesc.pt
X-WR-CALDESC:Events for hub.inesc.pt
REFRESH-INTERVAL;VALUE=DURATION:PT1H
X-Robots-Tag:noindex
X-PUBLISHED-TTL:PT1H
BEGIN:VTIMEZONE
TZID:Europe/Brussels
BEGIN:DAYLIGHT
TZOFFSETFROM:+0100
TZOFFSETTO:+0200
TZNAME:CEST
DTSTART:20240331T010000
END:DAYLIGHT
BEGIN:STANDARD
TZOFFSETFROM:+0200
TZOFFSETTO:+0100
TZNAME:CET
DTSTART:20241027T010000
END:STANDARD
END:VTIMEZONE
BEGIN:VEVENT
DTSTART;VALUE=DATE:20240502
DTEND;VALUE=DATE:20240504
DTSTAMP:20260423T204109
CREATED:20240325T122647Z
LAST-MODIFIED:20240325T123044Z
UID:14118-1714608000-1714780799@hub.inesc.pt
SUMMARY:Innovation and new technology in crisis communication: opportunities and/or threats?
DESCRIPTION:On the first day\, a conference will be held involving only the members of the Crisis Communications Network (CCN – IPCR) and their delegation. The conference considers mapping\, in the different countries\, from innovation and new technologies to moving forward in crisis communication. The day concludes with a social event in which we gather the guests from both days. At this event\, we discuss the conclusions from day one in order to prepare the participants for day two of the conference. The focus will also lie on networking with a set of tools to facilitate mutual discussion. \nOn day two\, we leave room for a larger audience (CCN\, European institutions\, international organisations\, academic world\, private sector\, etc.) but we also give the podium to atypical speakers from the academic and private sector in order to get our creative juices flowing. \nMore info here
URL:https://hub.inesc.pt/event/innovation-and-new-technology-in-crisis-communication-opportunities-and-or-threats/
LOCATION:Egmont Palace\, Kleine Zavel 8 1000\, Brussels\, Belgium
CATEGORIES:In person
END:VEVENT
END:VCALENDAR