BEGIN:VCALENDAR
VERSION:2.0
PRODID:-//hub.inesc.pt - ECPv6.2.8//NONSGML v1.0//EN
CALSCALE:GREGORIAN
METHOD:PUBLISH
X-WR-CALNAME:hub.inesc.pt
X-ORIGINAL-URL:https://hub.inesc.pt
X-WR-CALDESC:Events for hub.inesc.pt
REFRESH-INTERVAL;VALUE=DURATION:PT1H
X-Robots-Tag:noindex
X-PUBLISHED-TTL:PT1H
BEGIN:VTIMEZONE
TZID:Europe/Lisbon
BEGIN:DAYLIGHT
TZOFFSETFROM:+0000
TZOFFSETTO:+0100
TZNAME:WEST
DTSTART:20240331T010000
END:DAYLIGHT
BEGIN:STANDARD
TZOFFSETFROM:+0100
TZOFFSETTO:+0000
TZNAME:WET
DTSTART:20241027T010000
END:STANDARD
END:VTIMEZONE
BEGIN:VEVENT
DTSTART;VALUE=DATE:20240603
DTEND;VALUE=DATE:20240606
DTSTAMP:20260423T191641
CREATED:20240325T155522Z
LAST-MODIFIED:20240325T155522Z
UID:14153-1717372800-1717631999@hub.inesc.pt
SUMMARY:Indtech2024: Science and Innovation to empower Europe industrial resilience and economic security
DESCRIPTION:European industry plays a pivotal role in the twin digital and green transition. It acts as a catalyst for these changes while also being directly impacted by them. Simultaneously\, the European industry must strive to uphold their technological leadership and competitiveness in a context of increasing global competition. Indeed\, recent geopolitical and sanitary crisis highlighted the supply chain vulnerability of several key enabling technologies and critical raw materials. \nEurope’s technological capabilities are its best asset to meet the objectives of the Green Deal\, reach carbon neutrality in 2050 and ensure the leadership of its industry\, notably in the innovative materials sector. But the significance of the challenges matches the ambition. New technologies must be developed to enable the European transition to a carbon neutral economy\, but developing low and zero carbon solutions that go beyond the traditional approach will demand close collaboration between the academic and industry worlds. \n\n\nIndtech2024 will be a forum bringing together stakeholders to exchange around specific R&I and policy challenges and stimulate networking. An overarching question we would like to address during Indtech2024 is how R&D policies could be better integrated to ambitious European initiatives to make sure the future of our industry is made in Europe. More specifically\, Indtech2024 will aim to: \n\nIdentify and discuss the research and innovation challenges and opportunities related to the fields of advanced materials and manufacturing and critical raw material supply.\nIdentify\, discuss\, and showcase promising technologies and best practices contributing to the digital and green transition of the industry and the decarbonisation of the energy-intensive industries.\n\nTake stock of lessons learned at the mid-term of Horizon Europe programme and provide recommendations for the way forward\, specifically on how it could articulate better with other European initiatives. \nMore info here
URL:https://hub.inesc.pt/event/indtech2024-science-and-innovation-to-empower-europe-industrial-resilience-and-economic-security/
LOCATION:Namur
CATEGORIES:In person
END:VEVENT
BEGIN:VEVENT
DTSTART;VALUE=DATE:20240604
DTEND;VALUE=DATE:20240606
DTSTAMP:20260423T191641
CREATED:20240325T155720Z
LAST-MODIFIED:20240325T155720Z
UID:14155-1717459200-1717631999@hub.inesc.pt
SUMMARY:Conference on research infrastructures
DESCRIPTION:Contact riconference2024@belspo.be \n 
URL:https://hub.inesc.pt/event/conference-on-research-infrastructures/
LOCATION:KBR\, Mont des Arts / Kunstberg 28 1000\, Brussels\, Belgium
CATEGORIES:In person
END:VEVENT
END:VCALENDAR