BEGIN:VCALENDAR
VERSION:2.0
PRODID:-//hub.inesc.pt - ECPv6.2.8//NONSGML v1.0//EN
CALSCALE:GREGORIAN
METHOD:PUBLISH
X-ORIGINAL-URL:https://hub.inesc.pt
X-WR-CALDESC:Events for hub.inesc.pt
REFRESH-INTERVAL;VALUE=DURATION:PT1H
X-Robots-Tag:noindex
X-PUBLISHED-TTL:PT1H
BEGIN:VTIMEZONE
TZID:Europe/Brussels
BEGIN:DAYLIGHT
TZOFFSETFROM:+0100
TZOFFSETTO:+0200
TZNAME:CEST
DTSTART:20240331T010000
END:DAYLIGHT
BEGIN:STANDARD
TZOFFSETFROM:+0200
TZOFFSETTO:+0100
TZNAME:CET
DTSTART:20241027T010000
END:STANDARD
TZID:Europe/Lisbon
BEGIN:DAYLIGHT
TZOFFSETFROM:+0000
TZOFFSETTO:+0100
TZNAME:WEST
DTSTART:20250330T010000
END:DAYLIGHT
BEGIN:STANDARD
TZOFFSETFROM:+0100
TZOFFSETTO:+0000
TZNAME:WET
DTSTART:20251026T010000
END:STANDARD
BEGIN:DAYLIGHT
TZOFFSETFROM:+0000
TZOFFSETTO:+0100
TZNAME:WEST
DTSTART:20260329T010000
END:DAYLIGHT
BEGIN:STANDARD
TZOFFSETFROM:+0100
TZOFFSETTO:+0000
TZNAME:WET
DTSTART:20261025T010000
END:STANDARD
END:VTIMEZONE
BEGIN:VEVENT
DTSTART;TZID=Europe/Brussels:20240709T160000
DTEND;TZID=Europe/Brussels:20240709T173000
DTSTAMP:20260424T004449
CREATED:20231130T135324Z
LAST-MODIFIED:20231130T135324Z
UID:12828-1720540800-1720546200@hub.inesc.pt
SUMMARY:Annual Network Planning Meeting Private S|B Network hybrid workshop
DESCRIPTION:On July 9\, Science|Business will bring together the members of its international Network for an in-depth discussion – in Brussels and online – of the key issues and themes in research and innovation policy\, funding and cooperation that will define the year ahead. The Planning Meeting is above all a forum for members to identify common institutional interests and challenges\, to inform and strengthen the agenda of Network activities going forward\, and to begin preparations for the 2025 Science|Business Annual Network Conference. \nPlease note that this meeting is exclusively for members of the Science|Business Network. For any other organisation interested in becoming a member and joining the discussions on July 9\, please contact our Network Director at simon.pickard@sciencebusiness.net. For existing members\, please write to raffaele.guerini@sciencebusiness.net with any practical questions related to the event.
URL:https://hub.inesc.pt/event/annual-network-planning-meeting-private-sb-network-hybrid-workshop/
LOCATION:Brussels
CATEGORIES:In person
END:VEVENT
BEGIN:VEVENT
DTSTART;TZID=Europe/Brussels:20240709T180000
DTEND;TZID=Europe/Brussels:20240709T203000
DTSTAMP:20260424T004449
CREATED:20231130T135847Z
LAST-MODIFIED:20231130T135847Z
UID:12830-1720548000-1720557000@hub.inesc.pt
SUMMARY:Summer Reception & Meet the new Parliament
DESCRIPTION:On July 2\, a new European Parliament will formally take office\, with a full portfolio awaiting their attention. At the top of the pile of R&I-related issues will be strategic planning and budgets for the second half of Horizon Europe\, the beginning of discussions around the next Framework Programme\, and the transition to working with a new Commission. This Science|Business Network event will bring together a select group of newly elected (or re-elected) MEPs for an informal discussion of what lies ahead\, followed by a networking reception for Science|Business members and other invited guests.
URL:https://hub.inesc.pt/event/summer-reception-meet-the-new-parliament/
LOCATION:Brussels
CATEGORIES:In person
END:VEVENT
BEGIN:VEVENT
DTSTART;TZID=Europe/Lisbon:20251023T090000
DTEND;TZID=Europe/Lisbon:20251023T170000
DTSTAMP:20260424T004449
CREATED:20251001T135234Z
LAST-MODIFIED:20251002T111328Z
UID:18280-1761210000-1761238800@hub.inesc.pt
SUMMARY:MANUFUTURE Conference
DESCRIPTION:European Manufacturing for a Prosperous and Secure Tomorrow\n\nAs the world navigates geopolitical fragmentation and technological disruption\, Europe’s future hinges on revitalizing its manufacturing — not only for economic resilience but also to meet climate and security imperatives.\n\nPolicymakers\, industry leaders\, researchers\, and innovators will come together at this event to shape actionable strategies for manufacturing research and innovation\, knowledge and education\, circularity\, and defence readiness.\n\n\n\n\n\n\n\nThis high-level conference\, held in Brussels\, will explore the essential role of European manufacturing in strengthening Europe’s strategic autonomy and in addressing global challenges. \n\nFor further details\, and to register\, please visit the Conference’s website. \nParticipation is free\, subject to prior registration and seat availability
URL:https://hub.inesc.pt/event/manufuture-conference-brussels-belgium/
LOCATION:SPARKS\, Rue Ravenstein 60\, Bruxelles\, 100\, Belgium
CATEGORIES:In person
ATTACH;FMTTYPE=image/png:https://hub.inesc.pt/wp-content/uploads/2025/10/Screenshot-2025-09-03-150124.png
END:VEVENT
BEGIN:VEVENT
DTSTART;TZID=Europe/Lisbon:20260331T140000
DTEND;TZID=Europe/Lisbon:20260331T170000
DTSTAMP:20260424T004449
CREATED:20260326T183931Z
LAST-MODIFIED:20260326T184330Z
UID:19917-1774965600-1774976400@hub.inesc.pt
SUMMARY:Women Entrepreneurship: e-Catalogue Pitch & Networking – Enterprise Europe Network
DESCRIPTION:On 31 March 2026\, INESC TEC will host the Women Entrepreneurship: e-Catalogue Pitch & Networking event\, within the framework of the Enterprise Europe Network (EEN). \nThe event highlights the 2026 edition of the Women Entrepreneurship 3’ Pitch e-Catalogue\, which brings together 187 women-led initiatives from 24 countries\, across eight sectors\, supported by the EEN community . The catalogue showcases projects\, companies and organisations\, while creating opportunities for collaboration across the European innovation ecosystem. \nThis initiative reflects the growing role of women-led innovation in Europe and the importance of strengthening connections between entrepreneurs\, support organisations and EU funding opportunities. \nWhat to expect\nShort pitch sessions from selected initiatives featured in the catalogue\nDiscussions on women entrepreneurship\, collaboration and talent\nPresentations on European funding opportunities and support instruments\nA dedicated networking moment connecting companies\, stakeholders and EEN advisors \nPractical information\nDate: 31 March 2026\nTime: 14:00–17:00 (WEST)\nLocation: Porto (INESC TEC\, FEUP Campus – Auditorium A) & online\nFormat: Hybrid (limited in-person capacity)\nParticipation: Free of charge\, subject to registration \nRegister here: https://survey.inesctec.pt/index.php/818145?lang=en
URL:https://hub.inesc.pt/event/women-entrepreneurship-e-catalogue-pitch-networking-enterprise-europe-network/
LOCATION:Porto (INESC TEC\, FEUP Campus – Auditorium A) & online\, FEUP Campus – Auditorium A\, Porto\, Porto\, Portugal
CATEGORIES:In person,Hybrid,Online
ATTACH;FMTTYPE=image/png:https://hub.inesc.pt/wp-content/uploads/2026/03/banner_1200x1200_een.png
END:VEVENT
END:VCALENDAR