BEGIN:VCALENDAR
VERSION:2.0
PRODID:-//hub.inesc.pt - ECPv6.2.8//NONSGML v1.0//EN
CALSCALE:GREGORIAN
METHOD:PUBLISH
X-WR-CALNAME:hub.inesc.pt
X-ORIGINAL-URL:https://hub.inesc.pt
X-WR-CALDESC:Events for hub.inesc.pt
REFRESH-INTERVAL;VALUE=DURATION:PT1H
X-Robots-Tag:noindex
X-PUBLISHED-TTL:PT1H
BEGIN:VTIMEZONE
TZID:Europe/Brussels
BEGIN:DAYLIGHT
TZOFFSETFROM:+0100
TZOFFSETTO:+0200
TZNAME:CEST
DTSTART:20240331T010000
END:DAYLIGHT
BEGIN:STANDARD
TZOFFSETFROM:+0200
TZOFFSETTO:+0100
TZNAME:CET
DTSTART:20241027T010000
END:STANDARD
TZID:Europe/Lisbon
BEGIN:DAYLIGHT
TZOFFSETFROM:+0000
TZOFFSETTO:+0100
TZNAME:WEST
DTSTART:20240331T010000
END:DAYLIGHT
BEGIN:STANDARD
TZOFFSETFROM:+0100
TZOFFSETTO:+0000
TZNAME:WET
DTSTART:20241027T010000
END:STANDARD
END:VTIMEZONE
BEGIN:VEVENT
DTSTART;TZID=Europe/Brussels:20240514T140000
DTEND;TZID=Europe/Brussels:20240514T160000
DTSTAMP:20260423T020125
CREATED:20240318T082916Z
LAST-MODIFIED:20240318T082916Z
UID:13972-1715695200-1715702400@hub.inesc.pt
SUMMARY:Assessing national current FAIR-enabling capabilities
DESCRIPTION:The “FAIR Implementation Workshop – Assessing national current FAIR-enabling capabilities” will take place on 14 May 2024 14:00-16:00 CEST. Note: Registration for the workshop is free but mandatory. \nRegister here. \nThe Coalition for Advancing Research Assessment (CoARA) is a group of organisations who work on harmonising the assessment of research. It takes into account practices and activities that maximise the quality and impact of research. It involves basing assessment primarily on qualitative judgment\, for which peer review is central\, supported by responsible use of quantitative indicators. \nThis two-hour workshop will focus on the topic of research assessment to help the selected candidates to draft their FAIR implementation action plan by taking into account the research assessment aspect. \nAgenda: \n\n\n\n14:00\nIntroduction\nSuzanne Dumouchel\, CNRS\n\n\n14:10\nRound table\n\n\n\n14:40\nPresentation\nErzsébet Toth Czifra\, CoARA\n\n\n15:10\nPresentation\nKatarzyna Nawrot\, CoARA\n\n\n15:30\nDiscussion\n\n\n\n15:50\nNext steps\nSuzanne Dumouchel\, CNRS\n\n\n\nSpeakers: \nErzsébet Toth Czifra (CoARA) is the Open Science Officer of DARIAH ERIC where she is responsible for fostering and implementing policies and practices related to the open dissemination of research results in the arts and humanities. Her advocacy activities include charing DARIAH’s research data management working group\, providing workshops\, webinars\, and other training activities to arts and humanities scholars on a regular basis. She is also involved in European science policy making as well as European infrastructure-building projects such as SSHOC\, OPERAS-P and TRIPLE. She received her PhD in Cultural Linguistics and also has a background in scholarly communication.Toth Czifra (CoARA). \nKatarzyna Nawrot holds a PhD in Economics from the Poznan University of Economics (UEP). She is a Professor at the Department of European Studies at the UEP. In the context of the Coalition for Advancing Research Assessment (CoARA)\, she is leading an international team dealing with indicators and parameters in the evaluation of science. Their work is based on a community of practice with exchange of knowledge and experiences. It is open to the global level and not restricted to the European one. \nMore info here.
URL:https://hub.inesc.pt/event/assessing-national-current-fair-enabling-capabilities/
LOCATION:Online
CATEGORIES:Online
END:VEVENT
BEGIN:VEVENT
DTSTART;TZID=Europe/Lisbon:20240515T140000
DTEND;TZID=Europe/Lisbon:20240515T160000
DTSTAMP:20260423T020125
CREATED:20240318T083802Z
LAST-MODIFIED:20240318T083802Z
UID:13969-1715781600-1715788800@hub.inesc.pt
SUMMARY:The interTwin Digital Twin Engine: Discover the Environment Use Cases
DESCRIPTION:interTwin is collecting a series of use cases provided by selected research communities in the field of environmental sciences/climate change. These use cases describe activities that will benefit of the use of a Digital Twin. Based on the input collected via the use cases\, interTwin will develop a multi-domain Digital Twin Engine (DTE) – a collection of software components that can be assembled into a DT. The  use-cases will then use this DTE to assemble/build a DT that is specific for their domain or use-case. \nRegister here. \nSpeakers:\n– Deltares\n– CMCC\n– eurac research
URL:https://hub.inesc.pt/event/the-intertwin-digital-twin-engine-discover-the-environment-use-cases/
LOCATION:Porto
CATEGORIES:Online
ATTACH;FMTTYPE=image/webp:https://hub.inesc.pt/wp-content/uploads/2024/03/interTwin-Webinar-Title-3.webp
END:VEVENT
BEGIN:VEVENT
DTSTART;VALUE=DATE:20240516
DTEND;VALUE=DATE:20240517
DTSTAMP:20260423T020125
CREATED:20240325T151356Z
LAST-MODIFIED:20240325T151356Z
UID:14124-1715817600-1715903999@hub.inesc.pt
SUMMARY:High-level Event Threads of Change: Systemic Transformation of the Textile Sector
DESCRIPTION:The United Nations Environment Programme (UNEP) and the Belgian Presidency will jointly host the high-level event “Threads of Change: Systemic Transformation of the Textile Sector”. \nThis event will offer a unique opportunity to reflect on: \n\nGlobal textile sector priorities and needs that policies can help address\, contributing to just transition and international processes\nGlobal policy solutions to leverage the textile sector to contribute to climate\, nature and zero pollution goals and sustainable resource management\n\nIt will prompt pivotal inquiries concerning material consumption\, microplastics\, and circularity in the context of the UNEA resolutions and EU policy discussions on corporate due diligence and other relevant issues. \nThe conference will be held in English (no translation will be provided). \nInformation on the programme and registration will follow in the coming weeks. \nPlease note that due to limited seats\, the entry will be on invitation only for in person participation. The conference will still be open to the public via webstreaming \nMore info here
URL:https://hub.inesc.pt/event/high-level-event-threads-of-change-systemic-transformation-of-the-textile-sector/
LOCATION:Online
CATEGORIES:Online
ATTACH;FMTTYPE=image/webp:https://hub.inesc.pt/wp-content/uploads/2024/03/save-the-date_event-textile_fps-health.webp
END:VEVENT
END:VCALENDAR