BEGIN:VCALENDAR
VERSION:2.0
PRODID:-//hub.inesc.pt - ECPv6.2.8//NONSGML v1.0//EN
CALSCALE:GREGORIAN
METHOD:PUBLISH
X-WR-CALNAME:hub.inesc.pt
X-ORIGINAL-URL:https://hub.inesc.pt
X-WR-CALDESC:Events for hub.inesc.pt
REFRESH-INTERVAL;VALUE=DURATION:PT1H
X-Robots-Tag:noindex
X-PUBLISHED-TTL:PT1H
BEGIN:VTIMEZONE
TZID:Europe/Lisbon
BEGIN:DAYLIGHT
TZOFFSETFROM:+0000
TZOFFSETTO:+0100
TZNAME:WEST
DTSTART:20250330T010000
END:DAYLIGHT
BEGIN:STANDARD
TZOFFSETFROM:+0100
TZOFFSETTO:+0000
TZNAME:WET
DTSTART:20251026T010000
END:STANDARD
END:VTIMEZONE
BEGIN:VEVENT
DTSTART;TZID=Europe/Lisbon:20251127T123000
DTEND;TZID=Europe/Lisbon:20251127T140000
DTSTAMP:20260419T185709
CREATED:20251116T055529Z
LAST-MODIFIED:20251116T055529Z
UID:18463-1764246600-1764252000@hub.inesc.pt
SUMMARY:Choose Europe and its world-class research and technology infrastructures
DESCRIPTION:
URL:https://hub.inesc.pt/event/choose-europe-and-its-world-class-research-and-technology-infrastructures/
LOCATION:Porto
CATEGORIES:Online
ATTACH;FMTTYPE=image/jpeg:https://hub.inesc.pt/wp-content/uploads/2025/11/3508x2480_ChooseEurope_Euractiv_event_3-1-scaled.jpg
END:VEVENT
END:VCALENDAR