BEGIN:VCALENDAR
VERSION:2.0
PRODID:-//hub.inesc.pt - ECPv6.2.8//NONSGML v1.0//EN
CALSCALE:GREGORIAN
METHOD:PUBLISH
X-WR-CALNAME:hub.inesc.pt
X-ORIGINAL-URL:https://hub.inesc.pt
X-WR-CALDESC:Events for hub.inesc.pt
REFRESH-INTERVAL;VALUE=DURATION:PT1H
X-Robots-Tag:noindex
X-PUBLISHED-TTL:PT1H
BEGIN:VTIMEZONE
TZID:Europe/Lisbon
BEGIN:DAYLIGHT
TZOFFSETFROM:+0000
TZOFFSETTO:+0100
TZNAME:WEST
DTSTART:20240331T010000
END:DAYLIGHT
BEGIN:STANDARD
TZOFFSETFROM:+0100
TZOFFSETTO:+0000
TZNAME:WET
DTSTART:20241027T010000
END:STANDARD
END:VTIMEZONE
BEGIN:VEVENT
DTSTART;TZID=Europe/Lisbon:20240118T100000
DTEND;TZID=Europe/Lisbon:20240118T110000
DTSTAMP:20260423T080748
CREATED:20231228T151754Z
LAST-MODIFIED:20231228T151754Z
UID:12980-1705572000-1705575600@hub.inesc.pt
SUMMARY:Workshop:  Oportunidade de financiamento cooperação União Europeia- União Africana
DESCRIPTION:Workshop:  \nOportunidade de financiamento cooperação União Europeia- União Africana \n\n\n\n\n\n\n\n\n\n\n\n\n\n\n\n\n\n\n\n\n\n\n\n\n\n\n\n\n\n\n\n\n\n\n\n\n\n\n\n\n\n\n\n\n\n\n\n\n\nDATA\n\n\n18 de janeiro\, 2024 10:00-11:00\n\n\n\n\n\n\n\n\n\n\n\n\n\nLOCAL\n\n\nOnline\n\n\n\n\n\n\n\n\n\n\n\n\n\n\n\n\n\nInscreva-se\n\n\n\n\n\n\n\n\n\n\n\n\n\n\n\nA ANI\, em parceria com a European Innovation Council and SMEs Executive Agency (EISMEA)\, está a organizar\, dia 18 de janeiro\, um workshop dedicado a apresentar e esclarecer a comunidade nacional sobre a call “The European Union-African Union Innovation Platform”. \nA iniciativa está integrada no programa European Innovation Ecosystems e tem como objetivo financiar a plataforma de implementação da agenda estratégica de inovação AU/EU\, envolvendo stakeholders africanos e europeus: redes de start-ups\, academia\, empresas\, centros de I&D\, ONG\, instituições financiadoras internacionais\, incubadoras e aceleradoras.\n\n\n\n\n\n\n\n\n\n\n\n\n\n\n\n\n\n\n\n\n\n\n\n\n\n\n\n\n\n\n\n\n\n\n\n\n\n\n\n\n\n\n\n\n\n\n\n\n\n\n\n\n\n\n\n\n\n\n\n\n\n\n\n\n\n\n\n\n\n\n\n\n\n\n\n\n\n\n\n\n\n\n\n\n\n\n\n\n\n\nView in  browser\n\n\n\n\n\n\n\n\n\n\n\n\n\n\nCopyright (C) 2023 ANI- Agência Nacional de Inovação. All rights reserved. \nOur mailing address is: \nANI- Agência Nacional de Inovação \nCampus do Lumiar\, Ed. O\, 1º \nEstrada do Paço do Lumiar \nLisboa 1649-038 \nPortugal \nWant to change how you receive these emails? \nYou can update your preferences or unsubscribe
URL:https://hub.inesc.pt/event/workshop-oportunidade-de-financiamento-cooperacao-uniao-europeia-uniao-africana/
LOCATION:Porto
CATEGORIES:Online
END:VEVENT
END:VCALENDAR