BEGIN:VCALENDAR
VERSION:2.0
PRODID:-//hub.inesc.pt - ECPv6.2.8//NONSGML v1.0//EN
CALSCALE:GREGORIAN
METHOD:PUBLISH
X-ORIGINAL-URL:https://hub.inesc.pt
X-WR-CALDESC:Events for hub.inesc.pt
REFRESH-INTERVAL;VALUE=DURATION:PT1H
X-Robots-Tag:noindex
X-PUBLISHED-TTL:PT1H
BEGIN:VTIMEZONE
TZID:Europe/Lisbon
BEGIN:DAYLIGHT
TZOFFSETFROM:+0000
TZOFFSETTO:+0100
TZNAME:WEST
DTSTART:20240331T010000
END:DAYLIGHT
BEGIN:STANDARD
TZOFFSETFROM:+0100
TZOFFSETTO:+0000
TZNAME:WET
DTSTART:20241027T010000
END:STANDARD
TZID:Europe/Brussels
BEGIN:DAYLIGHT
TZOFFSETFROM:+0100
TZOFFSETTO:+0200
TZNAME:CEST
DTSTART:20240331T010000
END:DAYLIGHT
BEGIN:STANDARD
TZOFFSETFROM:+0200
TZOFFSETTO:+0100
TZNAME:CET
DTSTART:20241027T010000
END:STANDARD
END:VTIMEZONE
BEGIN:VEVENT
DTSTART;VALUE=DATE:20240208
DTEND;VALUE=DATE:20240313
DTSTAMP:20260423T064823
CREATED:20240221T095411Z
LAST-MODIFIED:20240221T095534Z
UID:13608-1707350400-1710287999@hub.inesc.pt
SUMMARY:Horizon Europe: Collaborative Research in a Nutshell - Weekly Webinar Series
DESCRIPTION:This mini-webinar series will shed light on different aspects of the proposal preparation process for collaborative projects in the thematic clusters of Horizon Europe through weekly\, short introductory seminars. The aim is to highlight specific elements of proposal preparations including: \n\nStrategic Preparation and Network Building for Involvement in Horizon Europe: Thursday\, 8 Feb. 2024\, 13.30-14.15 CET\nTime Planning for Proposal Preparation: Thursday\, 15 Feb. 2024\, 13.30-14.15 CET\nHow to Read a Call Topic: Thursday\, 22 Feb. 2024\, 13.30-14.15 CET\nProposal Template and Evaluation: Thursday\, 29 Feb. 2024\, 13.30-14.15 CET\nImpact in Horizon Europe: Thursday\, 7 March 2024\, 13.30-14.15 CET\nBudget planning: Tuesday\, 12 March 2024\, 13.30-14.15 CET\n\nThe series of events is directed at researchers interested in applying for Horizon Europe collaborative project grants and who would like to understand the key ingredients of successful proposals.  The webinars will be held in English\, participants can choose to take part in the whole series or only individual webinars. \nBased on KoWi’s mandate\, the target group of the event are researchers / research managers working at German universities\, research institutes or other public organisations. We reserve the right to admit/reject registrations accordingly. \nPlease register here.
URL:https://hub.inesc.pt/event/horizon-europe-collaborative-research-in-a-nutshell-weekly-webinar-series/
LOCATION:Online
CATEGORIES:Online
END:VEVENT
BEGIN:VEVENT
DTSTART;TZID=Europe/Brussels:20240208T160000
DTEND;TZID=Europe/Brussels:20240208T164500
DTSTAMP:20260423T064823
CREATED:20240206T091105Z
LAST-MODIFIED:20240206T091152Z
UID:13361-1707408000-1707410700@hub.inesc.pt
SUMMARY:TRUST-AI | 1st Webinar on Genetic Programming
DESCRIPTION:On February 8th\, at 15:00 (GMT)\, there will be a webinar on genetic programming\, in the scope of the TRUST-AI project. These artificial intelligence methods are being used to generate models which can be inherently explainable. \nPeter Bosman leads the Evolutionary Intelligence group of CWI\, a top evolutionary computation research group\, and in this webinar will present GP-GOMEA\, a state-of-the-art genetic programming algorithm\, and how it is being utilized to solve different problems in multiple sectors\, such as healthcare. \nTo sign up\, please fill in the form.
URL:https://hub.inesc.pt/event/trust-ai-1st-webinar-on-genetic-progamming/
LOCATION:Porto
CATEGORIES:Online
ATTACH;FMTTYPE=image/png:https://hub.inesc.pt/wp-content/uploads/2024/02/TRUST-AI-event.png
END:VEVENT
END:VCALENDAR