BEGIN:VCALENDAR
VERSION:2.0
PRODID:-//hub.inesc.pt - ECPv6.2.8//NONSGML v1.0//EN
CALSCALE:GREGORIAN
METHOD:PUBLISH
X-ORIGINAL-URL:https://hub.inesc.pt
X-WR-CALDESC:Events for hub.inesc.pt
REFRESH-INTERVAL;VALUE=DURATION:PT1H
X-Robots-Tag:noindex
X-PUBLISHED-TTL:PT1H
BEGIN:VTIMEZONE
TZID:Europe/Brussels
BEGIN:DAYLIGHT
TZOFFSETFROM:+0100
TZOFFSETTO:+0200
TZNAME:CEST
DTSTART:20240331T010000
END:DAYLIGHT
BEGIN:STANDARD
TZOFFSETFROM:+0200
TZOFFSETTO:+0100
TZNAME:CET
DTSTART:20241027T010000
END:STANDARD
END:VTIMEZONE
BEGIN:VEVENT
DTSTART;TZID=Europe/Brussels:20240321T140000
DTEND;TZID=Europe/Brussels:20240321T150000
DTSTAMP:20260423T052903
CREATED:20240318T104658Z
LAST-MODIFIED:20240318T104848Z
UID:13998-1711029600-1711033200@hub.inesc.pt
SUMMARY:One Hour with Europe appointment on Dual-Use White Paper with EC DG RTD Director Maria Cristina Russo
DESCRIPTION:At the end of January 2024\, the European Commission published a White Paper on options for enhancing support of Research and Development (R&D) of technologies with dual-use potential. This is a part of a larger package designed to enhance the EU’s economic security\, while upholding “the openness of trade\, investment and research” for the EU’s economy. \nThe White Paper launches a public consultation where the stakeholders are asked to share their views on how dual use research should be handled in the future FP10. \nThe three options can be summarised as:  \ni) Building upon the current approach established under Horizon Europe\,\nii) Removing the exclusive focus on civil applications in selected parts of the successor program to Horizon Europe\,\niii) Creating a dedicated instrument with a specific focus on R&D with dual-use potential. \nThe public consultation allows a comprehensive dialogue with stakeholders that should reflect on aspects like:  \nWhat are the challenges and opportunities related to increased focus on dual-use research and how can the related consultation impact the successor programme to Horizon Europe? \nWhat are the implications for researchers and innovators from civil or defense domains\, and how can the EU foster open and safem research cooperation among research organisations? How could this influence European competitiveness and the EU economic security? \nIn this One Hour with Europe\, we are happy to welcome Director for Global Approach and International Cooperation in R&I in DG RTD\, European Commission Maria Cristina Russo that will present the White Paper and the related public consultation and will be available to answer to the questions of the participants on this webinar. \nThe online event will find place on Thursday\, 21st of March\, at 14:00-15:00. Register before the 20th of March at 12:00 CET to receive the link to the webinar room. \nClick here to register
URL:https://hub.inesc.pt/event/one-hour-with-europe-appointment-on-dual-use-white-paper-with-ec-dg-rtd-director-maria-cristina-russo/
LOCATION:Online
CATEGORIES:Online
END:VEVENT
END:VCALENDAR