BEGIN:VCALENDAR
VERSION:2.0
PRODID:-//hub.inesc.pt - ECPv6.2.8//NONSGML v1.0//EN
CALSCALE:GREGORIAN
METHOD:PUBLISH
X-WR-CALNAME:hub.inesc.pt
X-ORIGINAL-URL:https://hub.inesc.pt
X-WR-CALDESC:Events for hub.inesc.pt
REFRESH-INTERVAL;VALUE=DURATION:PT1H
X-Robots-Tag:noindex
X-PUBLISHED-TTL:PT1H
BEGIN:VTIMEZONE
TZID:Europe/Brussels
BEGIN:DAYLIGHT
TZOFFSETFROM:+0100
TZOFFSETTO:+0200
TZNAME:CEST
DTSTART:20240331T010000
END:DAYLIGHT
BEGIN:STANDARD
TZOFFSETFROM:+0200
TZOFFSETTO:+0100
TZNAME:CET
DTSTART:20241027T010000
END:STANDARD
END:VTIMEZONE
BEGIN:VEVENT
DTSTART;TZID=Europe/Brussels:20240415T114500
DTEND;TZID=Europe/Brussels:20240415T121500
DTSTAMP:20260423T042047
CREATED:20240326T135336Z
LAST-MODIFIED:20240326T135336Z
UID:14167-1713181500-1713183300@hub.inesc.pt
SUMMARY:Handover: Successful and timely uptake of Artificial Intelligence in science in the EU
DESCRIPTION:On April 15 the Scientific Advice Mechanism (SAM) will release the advice on how the European Commission can accelerate the responsible take-up of AI in science in the EU.\n\n\n\n\n\n\n\n\n\nWith the characteristics of a general-purpose technology\, artificial intelligence (AI) is one of the most disruptive sets of technologies at the service of research and innovation. It acts as a catalyst for scientific breakthroughs and is rapidly becoming a key instrument in the scientific process in all research areas. \nOn April 15\, SAM will release the advice on how the European Commission can accelerate the responsible take-up of AI in science in the EU. The release of the evidence review report and policy recommendations will be marked by a ceremony in the presence of EVP Vestager and Commissioner Ivanova. \nYou can follow the event here.
URL:https://hub.inesc.pt/event/handover-successful-and-timely-uptake-of-artificial-intelligence-in-science-in-the-eu/
LOCATION:European Commission\, Brussels\, Belgium
CATEGORIES:Online
END:VEVENT
END:VCALENDAR