BEGIN:VCALENDAR
VERSION:2.0
PRODID:-//hub.inesc.pt - ECPv6.2.8//NONSGML v1.0//EN
CALSCALE:GREGORIAN
METHOD:PUBLISH
X-ORIGINAL-URL:https://hub.inesc.pt
X-WR-CALDESC:Events for hub.inesc.pt
REFRESH-INTERVAL;VALUE=DURATION:PT1H
X-Robots-Tag:noindex
X-PUBLISHED-TTL:PT1H
BEGIN:VTIMEZONE
TZID:Europe/Brussels
BEGIN:DAYLIGHT
TZOFFSETFROM:+0100
TZOFFSETTO:+0200
TZNAME:CEST
DTSTART:20240331T010000
END:DAYLIGHT
BEGIN:STANDARD
TZOFFSETFROM:+0200
TZOFFSETTO:+0100
TZNAME:CET
DTSTART:20241027T010000
END:STANDARD
END:VTIMEZONE
BEGIN:VEVENT
DTSTART;TZID=Europe/Brussels:20240424T140000
DTEND;TZID=Europe/Brussels:20240424T163000
DTSTAMP:20260423T042213
CREATED:20240318T081526Z
LAST-MODIFIED:20240318T081526Z
UID:13963-1713967200-1713976200@hub.inesc.pt
SUMMARY:Online Training Workshop on Remote Access for Electron Microscopy Training
DESCRIPTION:Registration is open for the advanced online training workshop on ”Remote access for electron microscopy”\, taking place Wednesday 24th April\, 2:00 pm – 4:30 pm CEST (1:00 pm – 3:30 pm BST). \nThe free workshop is co-organised by Thermo Fisher Scientific\, Euro-BioImaging and Instruct-ERIC as part of the eRImote project. The workshop will be delivered by training and application specialists from Thermo Fisher Scientific and is targeted at facility staff and advanced users. \nThe workshop encompasses remote operations and remote data analysis and includes interactive live demonstrations and presentations relating to both TEM and SEM systems. Ample time will be allocated for discussing individual use cases and answering questions. The workshop will focus on technical aspects of remote instrument control and data analysis\, while aspects of IT infrastructure requirements and training will only be covered briefly. \nThe deadline to register is Friday 19th April 2024. Contact support@instruct-eric.org if you are interested in joining. \nMore info here
URL:https://hub.inesc.pt/event/online-training-workshop-on-remote-access-for-electron-microscopy-training/
LOCATION:Online
CATEGORIES:Online
END:VEVENT
END:VCALENDAR